BEGIN:VCALENDAR
VERSION:2.0
PRODID:-//ChamberMaster//Event Calendar 2.0//EN
METHOD:PUBLISH
X-PUBLISHED-TTL:P3D
REFRESH-INTERVAL:P3D
CALSCALE:GREGORIAN
BEGIN:VEVENT
DTSTART:20250807T200000Z
DTEND:20250807T210000Z
X-MICROSOFT-CDO-ALLDAYEVENT:FALSE
SUMMARY:The Woodlands Area Business Summit Team Meeting
DESCRIPTION:**Help Us Plan for a successful 2025 Business Summit**\n\n\n\n \n\nBackground: \n\nThe Chamber believes in the growth and development of businesses and is committed to providing continuing education and training as we continue to be a professional resource to our members and community.\n\n \n\nObjective:\n\nThe Business Summit provides companies access to leading edge corporate resources which enables competitive and productive functioning while maintaining a healthy business culture for all employees\n\n \n\nScope:\n\nIn addition to hearing from keynote speakers\, registrants are offered various topical tracks over the span of two breakout sessions and a workshop.  \n\n \n\n Speaker and team participation is restricted to Chamber members only..
X-ALT-DESC;FMTTYPE=text/html:<strong><span style="font-size: 16pt\;">**Help Us Plan for a successful 2025 Business Summit**</span></strong><br />\n<br />\n&nbsp\;<br />\n<strong><em><span style="font-family: arial\, sans-serif\;">Background:&nbsp\;</span></em></strong><br />\n<span style="font-family: arial\, sans-serif\;">The Chamber believes in the growth and development of businesses and is committed to providing continuing education and training as we continue to be a professional resource to our members and community.</span><br />\n&nbsp\;<br />\n<strong><em><span style="font-family: arial\, sans-serif\;">Objective:</span></em></strong><br />\n<span style="font-family: arial\, sans-serif\;">The Business Summit provides companies access to leading edge corporate resources which enables competitive and productive functioning while maintaining a healthy business culture for all employees</span><br />\n&nbsp\;<br />\n<strong><em><span style="font-family: arial\, sans-serif\;">Scope:</span></em></strong><br />\n<span style="font-family: arial\, sans-serif\;">In addition to hearing from keynote speakers\, registrants are offered various topical tracks over the span of two breakout sessions and a workshop. &nbsp\;</span><br />\n&nbsp\;<br />\n<span style="color: rgb(255\, 0\, 0)\;"><strong>&nbsp\;Speaker and team participation is restricted to Chamber members only.</strong></span>.
LOCATION:The Woodlands Area Chamber of Commerce 9320 Lakeside Blvd.\, Suite 200 The Woodlands\, TX 77381 Lakeshore Board Room
UID:e.2574.18739
SEQUENCE:3
DTSTAMP:20260420T055023Z
URL:https://business.woodlandschamber.org/events/details/the-woodlands-area-business-summit-team-meeting-08-07-2025-18739
END:VEVENT

END:VCALENDAR
