BEGIN:VCALENDAR
VERSION:2.0
PRODID:-//ChamberMaster//Event Calendar 2.0//EN
METHOD:PUBLISH
X-PUBLISHED-TTL:P3D
REFRESH-INTERVAL:P3D
CALSCALE:GREGORIAN
BEGIN:VEVENT
DTSTART:20250327T223000Z
DTEND:20250327T230000Z
X-MICROSOFT-CDO-ALLDAYEVENT:FALSE
SUMMARY:Ribbon Cutting - Woodlands Cancer Institute - Woodlands
DESCRIPTION:Ribbon Cutting - Woodlands Cancer Institute - Woodlands\n\nWoodlands Cancer Institute is a community-based medical oncology\, radiation oncology and hematology practice providing treatment for patients diagnosed with all types of cancer and blood disorders. Through compassionate care that centers around the patient\, we strive to provide the best possible experience to patients and their families throughout the healthcare journey.
X-ALT-DESC;FMTTYPE=text/html:<strong><u><span style="font-size:18px\;">Ribbon Cutting - Woodlands Cancer Institute - Woodlands</span></u></strong><br />\nWoodlands Cancer Institute is a community-based medical oncology\, radiation oncology and hematology practice providing treatment for patients diagnosed with all types of cancer and blood disorders. Through compassionate care that centers around the patient\, we strive to provide the best possible experience to patients and their families throughout the healthcare journey.
LOCATION:Woodlands Cancer Institute - Woodlands 18354 Interstate 45 South\, Suite 200 Shenandoah\, TX 77384
UID:e.2574.18208
SEQUENCE:3
DTSTAMP:20260420T103548Z
URL:https://business.woodlandschamber.org/events/details/ribbon-cutting-woodlands-cancer-institute-woodlands-18208
END:VEVENT

END:VCALENDAR
