BEGIN:VCALENDAR
VERSION:2.0
PRODID:-//ChamberMaster//Event Calendar 2.0//EN
METHOD:PUBLISH
X-PUBLISHED-TTL:P3D
REFRESH-INTERVAL:P3D
CALSCALE:GREGORIAN
BEGIN:VEVENT
DTSTART:20241220T173000Z
DTEND:20241220T180000Z
X-MICROSOFT-CDO-ALLDAYEVENT:FALSE
SUMMARY:Ribbon Cutting - VP Wraps
DESCRIPTION:Ribbon Cutting - VP Wraps\n\nComplete Automotive Protection and Customization\n\nOur dedicated team offers a complete range of services to ensure your car receives the treatment it deserves. We are committed to providing a vehicle experience that exceeds expectations. With 7 years of experience and attention to detail\, we are here to keep your car in it's best shape\, inside and out.
X-ALT-DESC;FMTTYPE=text/html:<strong><u><span style="font-size:18px\;">Ribbon Cutting - VP Wraps</span></u></strong><br />\nComplete Automotive Protection and Customization<br />\nOur dedicated team offers a complete range of services to ensure your car receives the treatment it deserves. We are committed to providing a vehicle experience that exceeds expectations. With 7 years of experience and attention to detail\, we are here to keep your car in it&#39\;s best shape\, inside and out.
LOCATION:VP Wraps 32307 Tamina Road Magnolia\, TX 77354
UID:e.2574.18163
SEQUENCE:3
DTSTAMP:20260420T152341Z
URL:https://business.woodlandschamber.org/events/details/ribbon-cutting-vp-wraps-18163
END:VEVENT

END:VCALENDAR
