BEGIN:VCALENDAR
VERSION:2.0
PRODID:-//ChamberMaster//Event Calendar 2.0//EN
METHOD:PUBLISH
X-PUBLISHED-TTL:P3D
REFRESH-INTERVAL:P3D
CALSCALE:GREGORIAN
BEGIN:VEVENT
DTSTART:20240802T170000Z
DTEND:20240802T173000Z
X-MICROSOFT-CDO-ALLDAYEVENT:FALSE
SUMMARY:Ribbon Cutting - Vitality Oasis Wellness Center
DESCRIPTION:Ribbon Cutting - Vitality Oasis Wellness Center\n\nVitality Oasis Wellness Center is designed with your well-being in mind. From the moment you step in\, you'll feel a unique sense of rejuvenation and energy. Each space within our center is thoughtfully created to promote health and vitality\, offering a sanctuary where wellness and tranquility meet. Prepare to transform the way you think about wellness!
X-ALT-DESC;FMTTYPE=text/html:<strong><u><span style="font-size:18px\;">Ribbon Cutting - Vitality Oasis Wellness Center</span></u></strong><br />\nVitality Oasis Wellness Center is designed with your well-being in mind. From the moment you step in\, you&rsquo\;ll feel a unique sense of rejuvenation and energy. Each space within our center is thoughtfully created to promote health and vitality\, offering a sanctuary where wellness and tranquility meet. Prepare to transform the way you think about wellness!
LOCATION:Vitality Oasis Wellness Center 26119 Interstate 45 N.\, Suite 103 Spring\, TX 77380
UID:e.2574.17497
SEQUENCE:3
DTSTAMP:20260426T012357Z
URL:https://business.woodlandschamber.org/events/details/ribbon-cutting-vitality-oasis-wellness-center-17497
END:VEVENT

END:VCALENDAR
