BEGIN:VCALENDAR
VERSION:2.0
PRODID:-//ChamberMaster//Event Calendar 2.0//EN
METHOD:PUBLISH
X-PUBLISHED-TTL:P3D
REFRESH-INTERVAL:P3D
CALSCALE:GREGORIAN
BEGIN:VEVENT
DTSTART:20250627T173000Z
DTEND:20250627T183000Z
X-MICROSOFT-CDO-ALLDAYEVENT:FALSE
SUMMARY:Ribbon Cutting - Tropical Smoothie Cafe
DESCRIPTION:Ribbon Cutting - Tropical Smoothie Cafe\n\nTropical Smoothie Caf 's menu boasts bold\, flavorful food and smoothies with a healthy appeal. Our food and smoothies are made to order with fresh ingredients. Our smoothies are made from superior simple ingredients including real fruit and natural sugar. Combine that with a fun atmosphere & friendly hospitality and you see why people return again & again for the Tropical Smoothie Caf  Experience.
X-ALT-DESC;FMTTYPE=text/html:<strong><u><span style="font-size:18px\;">Ribbon Cutting - Tropical Smoothie Cafe</span></u></strong><br />\nTropical Smoothie Caf&eacute\;&rsquo\;s menu boasts bold\, flavorful food and smoothies with a healthy appeal. Our food and smoothies are made to order with fresh ingredients. Our smoothies are made from superior simple ingredients including real fruit and natural sugar. Combine that with a fun atmosphere &amp\; friendly hospitality and you see why people return again &amp\; again for the Tropical Smoothie Caf&eacute\; Experience.
LOCATION:Tropical Smoothie Cafe 3135 Riley Fuzzel Road\, Suite 101 Spring\, TX 77386
UID:e.2574.19217
SEQUENCE:3
DTSTAMP:20260420T065513Z
URL:https://business.woodlandschamber.org/events/details/ribbon-cutting-tropical-smoothie-cafe-19217
END:VEVENT

END:VCALENDAR
