BEGIN:VCALENDAR
VERSION:2.0
PRODID:-//ChamberMaster//Event Calendar 2.0//EN
METHOD:PUBLISH
X-PUBLISHED-TTL:P3D
REFRESH-INTERVAL:P3D
CALSCALE:GREGORIAN
BEGIN:VEVENT
DTSTART:20250718T160000Z
DTEND:20250718T163000Z
X-MICROSOFT-CDO-ALLDAYEVENT:FALSE
SUMMARY:Ribbon Cutting - Triple Pepper - The Woodlands/Conroe
DESCRIPTION:Ribbon Cutting - Triple Pepper - The Woodlands/Conroe\n\nImmerse yourself in the vibrant and authentic taste of Szechuan cuisine at Triple Pepper\, open for lunch and dinner. Whether you choose to savor the warm ambiance of our dining room or prefer the ease of takeout and delivery\, we bring our bold flavors directly to you. Explore a menu brimming with tantalizing dishes and experience the ideal balance of heat\, spice\, and deliciousness.
X-ALT-DESC;FMTTYPE=text/html:<strong><u><span style="font-size:18px\;">Ribbon Cutting - Triple Pepper - The Woodlands/Conroe</span></u></strong><br />\nImmerse yourself in the vibrant and authentic taste of Szechuan cuisine at Triple Pepper\, open for lunch and dinner. Whether you choose to savor the warm ambiance of our dining room or prefer the ease of takeout and delivery\, we bring our bold flavors directly to you. Explore a menu brimming with tantalizing dishes and experience the ideal balance of heat\, spice\, and deliciousness.<br />\n&nbsp\;
LOCATION:Triple Pepper - The Woodlands/Conroe 3091 College Park Dr.\, Suite 170 Conroe\, TX 77384
UID:e.2574.19252
SEQUENCE:3
DTSTAMP:20260420T065519Z
URL:https://business.woodlandschamber.org/events/details/ribbon-cutting-triple-pepper-the-woodlands-conroe-19252
END:VEVENT

END:VCALENDAR
