BEGIN:VCALENDAR
VERSION:2.0
PRODID:-//ChamberMaster//Event Calendar 2.0//EN
METHOD:PUBLISH
X-PUBLISHED-TTL:P3D
REFRESH-INTERVAL:P3D
CALSCALE:GREGORIAN
BEGIN:VEVENT
DTSTART:20250711T181500Z
DTEND:20250711T183000Z
X-MICROSOFT-CDO-ALLDAYEVENT:FALSE
SUMMARY:Ribbon Cutting - The Woodlands Home Repairs
DESCRIPTION:Ribbon Cutting - The Woodlands Home Repairs\n\nServing The Woodlands & surrounding areas since 2009. From basic home repairs to complete remodeling\, custom construction\, room additions\, covered patios\, outdoor kitchens\, attic build-outs\, garage floorings\, and much\, much more!
X-ALT-DESC;FMTTYPE=text/html:<span style="font-size: 18px\;"><b><u>Ribbon Cutting - The Woodlands Home Repairs</u></b></span><br />\nServing The Woodlands &amp\; surrounding areas since 2009. From basic home repairs to complete remodeling\, custom construction\, room additions\, covered patios\, outdoor kitchens\, attic build-outs\, garage floorings\, and much\, much more!
LOCATION:The Woodlands Chamber of Commerce 9320 Lakeside Blvd.\, Suite 200 The Woodlands\, TX 77381
UID:e.2574.19259
SEQUENCE:3
DTSTAMP:20260420T065647Z
URL:https://business.woodlandschamber.org/events/details/ribbon-cutting-the-woodlands-home-repairs-19259
END:VEVENT

END:VCALENDAR
