BEGIN:VCALENDAR
VERSION:2.0
PRODID:-//ChamberMaster//Event Calendar 2.0//EN
METHOD:PUBLISH
X-PUBLISHED-TTL:P3D
REFRESH-INTERVAL:P3D
CALSCALE:GREGORIAN
BEGIN:VEVENT
DTSTART:20250711T181500Z
DTEND:20250711T183000Z
X-MICROSOFT-CDO-ALLDAYEVENT:FALSE
SUMMARY:Ribbon Cutting - The Woodlands Car Club
DESCRIPTION:Ribbon Cutting - The Woodlands Car Club\n\nThe Woodlands Car Club was founded in March 2001 by a local group of car enthusiasts to create friendships\, fellowship\, foster relationships with local business and community\, create awareness for and give back to local non-profit organizations in Montgomery County. The Woodlands Cars & Coffee for a Cause charity car display is held the first Sunday of the month at Market Street from 6-10 a.m.
X-ALT-DESC;FMTTYPE=text/html:<strong><u><span style="font-size:16px\;"><span style="font-size:18px\;">Ribbon Cutting - The Woodlands Car Club</span></span></u></strong><br />\nThe Woodlands Car Club was founded in March 2001 by a local group of car enthusiasts to create friendships\, fellowship\, foster relationships with local business and community\, create awareness for and give back to local non-profit organizations in Montgomery County. The Woodlands Cars &amp\; Coffee for a Cause charity car display is held the first Sunday of the month at Market Street from 6-10 a.m.&nbsp\;
LOCATION:The Woodlands Chamber of Commerce 9320 Lakeside Blvd.\, Suite 200 The Woodlands\, TX 77381
UID:e.2574.19258
SEQUENCE:3
DTSTAMP:20260420T065652Z
URL:https://business.woodlandschamber.org/events/details/ribbon-cutting-the-woodlands-car-club-19258
END:VEVENT

END:VCALENDAR
