BEGIN:VCALENDAR
VERSION:2.0
PRODID:-//ChamberMaster//Event Calendar 2.0//EN
METHOD:PUBLISH
X-PUBLISHED-TTL:P3D
REFRESH-INTERVAL:P3D
CALSCALE:GREGORIAN
BEGIN:VEVENT
DTSTART:20250801T160000Z
DTEND:20250801T163000Z
X-MICROSOFT-CDO-ALLDAYEVENT:FALSE
SUMMARY:Ribbon Cutting - The Woodlands Auto Spa
DESCRIPTION:Ribbon Cutting - The Woodlands Auto Spa\n\nAt The Woodlands Auto Spa\, we understand the essence of exceptional auto care. With meticulous attention to detail\, our wash packages and full detailing services transform your vehicle\, ensuring every inch reflects the pinnacle of cleanliness and luxury. In the bustling life of The Woodlands\, your car is not just a mode of transport\; it's a statement of your prestige and care for the finer things.
X-ALT-DESC;FMTTYPE=text/html:<strong><u><span style="font-size:18px\;">Ribbon Cutting - The Woodlands Auto Spa</span></u></strong><br />\nAt The Woodlands Auto Spa\, we understand the essence of exceptional auto care. With meticulous attention to detail\, our wash packages and full detailing services transform your vehicle\, ensuring every inch reflects the pinnacle of cleanliness and luxury. In the bustling life of The Woodlands\, your car is not just a mode of transport\; it&#39\;s a statement of your prestige and care for the finer things.
LOCATION:The Woodlands Auto Spa 4102 College Park Dr. The Woodlands\, TX 77384
UID:e.2574.18613
SEQUENCE:3
DTSTAMP:20260420T065519Z
URL:https://business.woodlandschamber.org/events/details/ribbon-cutting-the-woodlands-auto-spa-18613
END:VEVENT

END:VCALENDAR
