BEGIN:VCALENDAR
VERSION:2.0
PRODID:-//ChamberMaster//Event Calendar 2.0//EN
METHOD:PUBLISH
X-PUBLISHED-TTL:P3D
REFRESH-INTERVAL:P3D
CALSCALE:GREGORIAN
BEGIN:VEVENT
DTSTART:20250626T210000Z
DTEND:20250626T230000Z
X-MICROSOFT-CDO-ALLDAYEVENT:FALSE
SUMMARY:Ribbon Cutting - The Magnolia Woods Assisted Living & Memory Care
DESCRIPTION:Ribbon Cutting - The Magnolia Assisted Living & Memory Care\n\nThe Magnolia Woods Assisted Living provides individualized care to align with lifestyle\, and medical requirements of our family residents\, that fosters a sense of belonging\, dignity\, safety\, and joy.
X-ALT-DESC;FMTTYPE=text/html:<strong><u><span style="font-size:18px\;">Ribbon Cutting - The Magnolia Assisted Living &amp\; Memory Care</span></u></strong><br />\nThe Magnolia Woods Assisted Living provides individualized care to align with lifestyle\, and medical requirements of our family residents\, that fosters a sense of belonging\, dignity\, safety\, and joy.
LOCATION:The Magnolia Assisted Living & Memory Care 14135 Old Smith Road Conroe\, TX 77384
UID:e.2574.19047
SEQUENCE:3
DTSTAMP:20260420T065949Z
URL:https://business.woodlandschamber.org/events/details/ribbon-cutting-the-magnolia-woods-assisted-living-memory-care-19047
END:VEVENT

END:VCALENDAR
