BEGIN:VCALENDAR
VERSION:2.0
PRODID:-//ChamberMaster//Event Calendar 2.0//EN
METHOD:PUBLISH
X-PUBLISHED-TTL:P3D
REFRESH-INTERVAL:P3D
CALSCALE:GREGORIAN
BEGIN:VEVENT
DTSTART:20250808T184500Z
DTEND:20250808T190000Z
X-MICROSOFT-CDO-ALLDAYEVENT:FALSE
SUMMARY:Ribbon Cutting - The Fitzpatrick Group
DESCRIPTION:Ribbon Cutting - The Fitzpatrick Group\n\nWe are a full-service financial firm doing things drastically different than the rest of the industry. We believe in disrupting the traditional way of thinking by teaching people how to eliminate unnecessary taxes\, fees\, and market volatility! Take control of your financial life\, learn the rules of the game\, and become truly efficient with your money. You can retire in a 0% Tax Bracket!
X-ALT-DESC;FMTTYPE=text/html:<strong><u><span style="font-size:18px\;">Ribbon Cutting - The Fitzpatrick Group</span></u></strong><br />\nWe are a full-service financial firm doing things drastically different than the rest of the industry. We believe in disrupting the traditional way of thinking by teaching people how to eliminate unnecessary taxes\, fees\, and market volatility! Take control of your financial life\, learn the rules of the game\, and become truly efficient with your money. You can retire in a 0% Tax Bracket!&nbsp\;
LOCATION:The Woodlands Chamber of Commerce 9320 Lakeside Blvd.\, Suite 200 The Woodlands\, TX 77381
UID:e.2574.19264
SEQUENCE:3
DTSTAMP:20260420T054621Z
URL:https://business.woodlandschamber.org/events/details/ribbon-cutting-the-fitzpatrick-group-19264
END:VEVENT

END:VCALENDAR
