BEGIN:VCALENDAR
VERSION:2.0
PRODID:-//ChamberMaster//Event Calendar 2.0//EN
METHOD:PUBLISH
X-PUBLISHED-TTL:P3D
REFRESH-INTERVAL:P3D
CALSCALE:GREGORIAN
BEGIN:VEVENT
DTSTART:20250812T183000Z
DTEND:20250812T184500Z
X-MICROSOFT-CDO-ALLDAYEVENT:FALSE
SUMMARY:Ribbon Cutting - Synergisdic\, LLC
DESCRIPTION:Ribbon Cutting - Synergisdic\, LLC\n\nWhen it comes to trusting an IT service provider to secure your data\, deploy the newest tools to keep collaboration at its peak\, and keep you in compliance\, you can't do better than Synergisdic. As your IT Services Houston partner\, we get your networks humming with technology solutions\, while you get the chance to focus on your business.
X-ALT-DESC;FMTTYPE=text/html:<strong><u><span style="font-size:18px\;">Ribbon Cutting - Synergisdic\, LLC</span></u></strong><br />\nWhen it comes to trusting an IT service provider to secure your data\, deploy the newest tools to keep collaboration at its peak\, and keep you in compliance\, you can&rsquo\;t do better than Synergisdic. As your IT Services Houston partner\, we get your networks humming with technology solutions\, while you get the chance to focus on your business.&nbsp\;
LOCATION:The Woodlands Chamber of Commerce 9320 Lakeside Blvd.\, Suite 200 The Woodlands\, TX 77381
UID:e.2574.19400
SEQUENCE:3
DTSTAMP:20260420T065513Z
URL:https://business.woodlandschamber.org/events/details/ribbon-cutting-synergisdic-llc-19400
END:VEVENT

END:VCALENDAR
