BEGIN:VCALENDAR
VERSION:2.0
PRODID:-//ChamberMaster//Event Calendar 2.0//EN
METHOD:PUBLISH
X-PUBLISHED-TTL:P3D
REFRESH-INTERVAL:P3D
CALSCALE:GREGORIAN
BEGIN:VEVENT
DTSTART:20260522T150000Z
DTEND:20260522T160000Z
X-MICROSOFT-CDO-ALLDAYEVENT:FALSE
SUMMARY:Ribbon Cutting - StretchLab Creekside
DESCRIPTION:Ribbon Cutting - StretchLab Creekside\n\nStretchLab offers one-on-one assisted stretching to improve flexibility\, mobility\, and recovery. Guided by trained Flexologists\, each session is personalized to reduce tension\, enhance movement\, and prevent injury. Ideal for all fitness levels\, it helps you move better\, feel looser\, and recover faster.
X-ALT-DESC;FMTTYPE=text/html:<br />\n<br />\n<strong><u><span style="font-family:arial\,sans-serif\;"><span style="font-size:14.0pt\;">Ribbon Cutting - StretchLab Creekside</span></span></u></strong><br />\n<span style="font-family:arial\,sans-serif\;"><span style="font-size:12.0pt\;">StretchLab offers one-on-one assisted stretching to improve flexibility\, mobility\, and recovery. Guided by trained Flexologists\, each session is personalized to reduce tension\, enhance movement\, and prevent injury. Ideal for all fitness levels\, it helps you move better\, feel looser\, and recover faster.</span></span><br />\n&nbsp\;<br />\n&nbsp\;
LOCATION:
UID:e.2574.22190
SEQUENCE:3
DTSTAMP:20260423T024035Z
URL:https://business.woodlandschamber.org/events/details/ribbon-cutting-stretchlab-creekside-22190
END:VEVENT

END:VCALENDAR
