BEGIN:VCALENDAR
VERSION:2.0
PRODID:-//ChamberMaster//Event Calendar 2.0//EN
METHOD:PUBLISH
X-PUBLISHED-TTL:P3D
REFRESH-INTERVAL:P3D
CALSCALE:GREGORIAN
BEGIN:VEVENT
DTSTART:20260410T181500Z
DTEND:20260410T184000Z
X-MICROSOFT-CDO-ALLDAYEVENT:FALSE
SUMMARY:Ribbon Cutting - Spring Ahead Speakers Toastmasters
DESCRIPTION:Ribbon Cutting - Spring Ahead Speakers Toastmasters\n\nWe are a very diverse club with members from different parts of the USA and many countries around the world.  We chartered in January\, 2001 and have been a Presidents Distinguished Club for every year of existence. We pride ourselves on being a very friendly\, rmedium-sized club and welcome new members to share our experience. We meet Thursday Noon to 1PM at Northwoods Unitarian Universalist Church
X-ALT-DESC;FMTTYPE=text/html:<br />\n<br />\n<strong><u><span style="font-family:arial\,sans-serif\;"><span style="font-size:14.0pt\;">Ribbon Cutting - Spring Ahead Speakers Toastmasters</span></span></u></strong><br />\n<span style="font-family:arial\,sans-serif\;"><span style="font-size:14.0pt\;">We are a very diverse club with members from different parts of the USA and many countries around the world.&nbsp\; We chartered in January\, 2001 and have been a Presidents Distinguished Club for every year of existence. We pride ourselves on being a very friendly\, rmedium-sized club and welcome new members to share our experience. We meet Thursday Noon to 1PM at Northwoods Unitarian Universalist Church</span></span><br />\n&nbsp\;
LOCATION:The Woodlands Area Chamber of Commerce 9320 Lakeside Blvd.\, Suite 200 The Woodlands\, TX 77381
UID:e.2574.22054
SEQUENCE:3
DTSTAMP:20260419T142512Z
URL:https://business.woodlandschamber.org/events/details/ribbon-cutting-spring-ahead-speakers-toastmasters-22054
END:VEVENT

END:VCALENDAR
