BEGIN:VCALENDAR
VERSION:2.0
PRODID:-//ChamberMaster//Event Calendar 2.0//EN
METHOD:PUBLISH
X-PUBLISHED-TTL:P3D
REFRESH-INTERVAL:P3D
CALSCALE:GREGORIAN
BEGIN:VEVENT
DTSTART:20250403T150000Z
DTEND:20250403T153000Z
X-MICROSOFT-CDO-ALLDAYEVENT:FALSE
SUMMARY:Ribbon Cutting - Sampa Tour LLC
DESCRIPTION:Ribbon Cutting - Sampa Tour LLC\n\nDiscover your next adventure in Brazil! Most of our trips take place in the low season when it is pleasant\, offering shirt-sleeve weather and even swimming! There are many good restaurants to choose from in the quaint downtown area. Live music\, a Brazilian specialty\, is available on weekends. Give us a call or email us with any questions or comments.
X-ALT-DESC;FMTTYPE=text/html:<strong><u><span style="font-size:18px\;">Ribbon Cutting - Sampa Tour LLC</span></u></strong><br />\nDiscover your next adventure in Brazil! Most of our trips take place in the low season when it is pleasant\, offering shirt-sleeve weather and even swimming! There are many good restaurants to choose from in the quaint downtown area. Live music\, a Brazilian specialty\, is available on weekends. Give us a call or email us with any questions or comments.
LOCATION:The Woodlands Chamber of Commerce 9320 Lakeside Blvd.\, Suite 200 The Woodlands\, TX 77381
UID:e.2574.18413
SEQUENCE:3
DTSTAMP:20260420T102659Z
URL:https://business.woodlandschamber.org/events/details/ribbon-cutting-sampa-tours-llc-18413
END:VEVENT

END:VCALENDAR
