BEGIN:VCALENDAR
VERSION:2.0
PRODID:-//ChamberMaster//Event Calendar 2.0//EN
METHOD:PUBLISH
X-PUBLISHED-TTL:P3D
REFRESH-INTERVAL:P3D
CALSCALE:GREGORIAN
BEGIN:VEVENT
DTSTART:20250815T160000Z
DTEND:20250815T163000Z
X-MICROSOFT-CDO-ALLDAYEVENT:FALSE
SUMMARY:Ribbon Cutting - RapidCare Emergency Room
DESCRIPTION:Ribbon Cutting - RapidCare Emergency Room\n\nRapidCare Emergency Is Your #1\n\nNeighborhood Emergency Room\n\nOur patient care services are tailored to our local community to provide concierge\, state-of-the-art patient care for both adults and children. We Are Open 24/7 and our board-certified physicians and experienced nurses are equipped to handle all your medical needs and emergencies rapidly.
X-ALT-DESC;FMTTYPE=text/html:<strong><u><span style="font-size:18px\;">Ribbon Cutting - RapidCare Emergency Room</span></u></strong><br />\nRapidCare Emergency Is Your #1<br />\nNeighborhood Emergency Room<br />\nOur patient care services are tailored to our local community to provide concierge\, state-of-the-art patient care for both adults and children. We Are Open 24/7 and our board-certified physicians and experienced nurses are equipped to handle all your medical needs and emergencies rapidly.
LOCATION:RapidCare Emergency Room 26306 Kuykendahl Rd. Tomball\, TX 77375
UID:e.2574.19216
SEQUENCE:3
DTSTAMP:20260420T044407Z
URL:https://business.woodlandschamber.org/events/details/ribbon-cutting-rapidcare-emergency-room-19216
END:VEVENT

END:VCALENDAR
