BEGIN:VCALENDAR
VERSION:2.0
PRODID:-//ChamberMaster//Event Calendar 2.0//EN
METHOD:PUBLISH
X-PUBLISHED-TTL:P3D
REFRESH-INTERVAL:P3D
CALSCALE:GREGORIAN
BEGIN:VEVENT
DTSTART:20240809T181500Z
DTEND:20240809T183000Z
X-MICROSOFT-CDO-ALLDAYEVENT:FALSE
SUMMARY:Ribbon Cutting - Progress Amplified LLC
DESCRIPTION:Ribbon Cutting - Progress Amplified LLC\n\nWe recognize the multifaceted challenges confronting today's business leaders in the realm of HR. Our expertise extends to addressing pressing concerns\, ensuring businesses stay ahead in an ever-evolving landscape. Let's collaborate to transform these challenges into opportunities for growth and success. Schedule a consultation today\, and let's chart a course toward HR excellence together.
X-ALT-DESC;FMTTYPE=text/html:<strong><u><span style="font-size:18px\;">Ribbon Cutting - Progress Amplified LLC</span></u></strong><br />\nWe recognize the multifaceted challenges confronting today&rsquo\;s business leaders in the realm of HR. Our expertise extends to addressing pressing concerns\, ensuring businesses stay ahead in an ever-evolving landscape. Let&rsquo\;s collaborate to transform these challenges into opportunities for growth and success. Schedule a consultation today\, and let&rsquo\;s chart a course toward HR excellence together.
LOCATION:The Woodlands Area Chamber of Commerce 9320 Lakeside Blvd.\, Suite 200 The Woodlands\, TX 77381
UID:e.2574.17461
SEQUENCE:3
DTSTAMP:20260426T013034Z
URL:https://business.woodlandschamber.org/events/details/ribbon-cutting-progress-amplified-llc-17461
END:VEVENT

END:VCALENDAR
