BEGIN:VCALENDAR
VERSION:2.0
PRODID:-//ChamberMaster//Event Calendar 2.0//EN
METHOD:PUBLISH
X-PUBLISHED-TTL:P3D
REFRESH-INTERVAL:P3D
CALSCALE:GREGORIAN
BEGIN:VEVENT
DTSTART:20250828T153000Z
DTEND:20250828T160000Z
X-MICROSOFT-CDO-ALLDAYEVENT:FALSE
SUMMARY:Ribbon Cutting - Phat Eatery
DESCRIPTION:Ribbon Cutting - Phat Eatery\n\nFresh Malaysian street food + warm hospitality by 2022 James Beard Award Semifinalist Alex Au-Yeung. The menu includes Chef's award-winning beef rendang\, curry laksa\, nasi lemak\, sizzling egg tofu and flaky roti canai in addition to stir-fried noodles\, rice and vegetable dishes\, house dim sum and seasonal specials.
X-ALT-DESC;FMTTYPE=text/html:<strong><u><span style="font-size:18px\;">Ribbon Cutting - Phat Eatery</span></u></strong><br />\nFresh Malaysian street food + warm hospitality by 2022 James Beard Award Semifinalist Alex Au-Yeung. The menu includes Chef&#39\;s award-winning beef rendang\, curry laksa\, nasi lemak\, sizzling egg tofu and flaky roti canai in addition to stir-fried noodles\, rice and vegetable dishes\, house dim sum and seasonal specials.&nbsp\;
LOCATION:Phat Eatery 2290 Buckthorne Pl. The Woodlands\, TX 77380
UID:e.2574.19415
SEQUENCE:3
DTSTAMP:20260420T054621Z
URL:https://business.woodlandschamber.org/events/details/ribbon-cutting-phat-eatery-19415
END:VEVENT

END:VCALENDAR
