BEGIN:VCALENDAR
VERSION:2.0
PRODID:-//ChamberMaster//Event Calendar 2.0//EN
METHOD:PUBLISH
X-PUBLISHED-TTL:P3D
REFRESH-INTERVAL:P3D
CALSCALE:GREGORIAN
BEGIN:VEVENT
DTSTART:20250522T200000Z
DTEND:20250522T230000Z
X-MICROSOFT-CDO-ALLDAYEVENT:FALSE
SUMMARY:Ribbon Cutting/Open House - Junior League of The Woodlands
DESCRIPTION:Ribbon Cutting/Open House - Junior League of The Woodlands\n\nThe Association of Junior Leagues International is an organization of women whose mission is to advance women's leadership for meaningful community impact through volunteer action\, collaboration\, and training.
X-ALT-DESC;FMTTYPE=text/html:<strong><u><span style="font-size:18px\;">Ribbon Cutting/Open House - Junior League of The Woodlands</span></u></strong><br />\nThe Association of Junior Leagues International is an organization of women whose mission is to advance women&rsquo\;s leadership for meaningful community impact through volunteer action\, collaboration\, and training.
LOCATION:Junior League of The Woodlands 8686 New Trails Dr.\, Suite 118 The Woodlands\, TX 77381
UID:e.2574.18795
SEQUENCE:3
DTSTAMP:20260420T091717Z
URL:https://business.woodlandschamber.org/events/details/ribbon-cutting-open-house-junior-league-of-the-woodlands-18795
END:VEVENT

END:VCALENDAR
