BEGIN:VCALENDAR
VERSION:2.0
PRODID:-//ChamberMaster//Event Calendar 2.0//EN
METHOD:PUBLISH
X-PUBLISHED-TTL:P3D
REFRESH-INTERVAL:P3D
CALSCALE:GREGORIAN
BEGIN:VEVENT
DTSTART:20250321T160000Z
DTEND:20250321T163000Z
X-MICROSOFT-CDO-ALLDAYEVENT:FALSE
SUMMARY:Ribbon Cutting - Mathnasium of The Woodlands
DESCRIPTION:Ribbon Cutting - Mathnasium of The Woodlands\n\nOur instructors use the Mathnasium Method \, our proprietary teaching approach that combines personalized learning plans with mental\, verbal\, visual\, tactile\, and written techniques to build math knowledge level by level. This method ensures that each student receives tailored instruction that meets their unique needs and learning styles.
X-ALT-DESC;FMTTYPE=text/html:<strong><u><span style="font-size:18px\;">Ribbon Cutting - Mathnasium of The Woodlands</span></u></strong><br />\nOur instructors use the Mathnasium Method&trade\;\, our proprietary teaching approach that combines personalized learning plans with mental\, verbal\, visual\, tactile\, and written techniques to build math knowledge level by level. This method ensures that each student receives tailored instruction that meets their unique needs and learning styles.
LOCATION:Mathnasium of The Woodlands 4775 W. Panther Creek Drive # 410 The Woodlands\, TX 77381
UID:e.2574.18387
SEQUENCE:3
DTSTAMP:20260420T114950Z
URL:https://business.woodlandschamber.org/events/details/ribbon-cutting-mathnasium-of-the-woodlands-18387
END:VEVENT

END:VCALENDAR
