BEGIN:VCALENDAR
VERSION:2.0
PRODID:-//ChamberMaster//Event Calendar 2.0//EN
METHOD:PUBLISH
X-PUBLISHED-TTL:P3D
REFRESH-INTERVAL:P3D
CALSCALE:GREGORIAN
BEGIN:VEVENT
DTSTART:20241213T194500Z
DTEND:20241213T200000Z
X-MICROSOFT-CDO-ALLDAYEVENT:FALSE
SUMMARY:Ribbon Cutting - Mark Spurgeon Insurance Agency\, Inc.
DESCRIPTION:Ribbon Cutting - Mark Spurgeon Insurance Agency\, Inc.\n\nMark Spurgeon Insurance Agency\, since 1995\, offers a wide range of insurance services including auto\, home\, life\, and business insurance. They provide tailored solutions to help individuals and businesses in Texas protect their financial futures while emphasizing client care and comprehensive coverage options.
X-ALT-DESC;FMTTYPE=text/html:<strong><u><span style="font-size:18px\;">Ribbon Cutting - Mark Spurgeon Insurance Agency\, Inc.</span></u></strong><br />\nMark Spurgeon Insurance Agency\, since 1995\, offers a wide range of insurance services including auto\, home\, life\, and business insurance. They provide tailored solutions to help individuals and businesses in Texas protect their financial futures while emphasizing client care and comprehensive coverage options.
LOCATION:The Woodlands Chamber of Commerce 9320 Lakeside Blvd.\, Suite 200 The Woodlands\, TX 77381
UID:e.2574.17889
SEQUENCE:3
DTSTAMP:20260420T152541Z
URL:https://business.woodlandschamber.org/events/details/ribbon-cutting-mark-spurgeon-insurance-agency-inc-17889
END:VEVENT

END:VCALENDAR
