BEGIN:VCALENDAR
VERSION:2.0
PRODID:-//ChamberMaster//Event Calendar 2.0//EN
METHOD:PUBLISH
X-PUBLISHED-TTL:P3D
REFRESH-INTERVAL:P3D
CALSCALE:GREGORIAN
BEGIN:VEVENT
DTSTART:20250627T160000Z
DTEND:20250627T163000Z
X-MICROSOFT-CDO-ALLDAYEVENT:FALSE
SUMMARY:Ribbon Cutting - Magnolia Soap & Bath Co.
DESCRIPTION:Ribbon Cutting - Magnolia Soap & Bath Co.\n\nLocally handcrafted plant-based beauty.\n\nElevate your beauty and wellness journey as you bring more joy and plant-based alternatives into your daily bath and skincare rituals. Trust the purity of our ingredients and embrace the long-lasting benefits of natural products for you and your loved ones.
X-ALT-DESC;FMTTYPE=text/html:<strong><u><span style="font-size:18px\;">Ribbon Cutting - Magnolia Soap &amp\; Bath Co.</span></u></strong><br />\nLocally handcrafted plant-based beauty.<br />\nElevate your beauty and wellness journey as you bring more joy and plant-based alternatives into your daily bath and skincare rituals. Trust the purity of our ingredients and embrace the long-lasting benefits of natural products for you and your loved ones.
LOCATION:Magnolia Soap & Bath Co. 6318 FM 1488\, Suite 110 Magnolia\, TX 77354
UID:e.2574.19059
SEQUENCE:3
DTSTAMP:20260420T065411Z
URL:https://business.woodlandschamber.org/events/details/ribbon-cutting-magnolia-soap-bath-co-19059
END:VEVENT

END:VCALENDAR
