BEGIN:VCALENDAR
VERSION:2.0
PRODID:-//ChamberMaster//Event Calendar 2.0//EN
METHOD:PUBLISH
X-PUBLISHED-TTL:P3D
REFRESH-INTERVAL:P3D
CALSCALE:GREGORIAN
BEGIN:VEVENT
DTSTART:20241023T190000Z
DTEND:20241023T193000Z
X-MICROSOFT-CDO-ALLDAYEVENT:FALSE
SUMMARY:Ribbon Cutting - Magnolia Modern Dentistry
DESCRIPTION:Ribbon Cutting - Magnolia Modern Dentistry \n\nWe believe in empowering you to make informed decisions concerning your oral health\, which is why we offer comprehensive education on all available treatment options. Whether you're seeking cavity fillings\, dental crowns\, bridges\, or professional teeth whitening\, we provide an extensive array of modern treatments aimed at helping you achieve and maintain the smile you've always desired.
X-ALT-DESC;FMTTYPE=text/html:<strong><u><span style="font-size:18px\;">Ribbon Cutting - Magnolia Modern Dentistry&nbsp\;</span></u></strong><br />\nWe believe in empowering you to make informed decisions concerning your oral health\, which is why we offer comprehensive education on all available treatment options. Whether you&#39\;re seeking cavity fillings\, dental crowns\, bridges\, or professional teeth whitening\, we provide an extensive array of modern treatments aimed at helping you achieve and maintain the smile you&#39\;ve always desired.&nbsp\;
LOCATION:Magnolia Modern Dentistry 32822 FM 2978\, Ste #1300 Magnolia\, TX 77354
UID:e.2574.17858
SEQUENCE:3
DTSTAMP:20260424T143002Z
URL:https://business.woodlandschamber.org/events/details/ribbon-cutting-magnolia-modern-dentistry-17858
END:VEVENT

END:VCALENDAR
