BEGIN:VCALENDAR
VERSION:2.0
PRODID:-//ChamberMaster//Event Calendar 2.0//EN
METHOD:PUBLISH
X-PUBLISHED-TTL:P3D
REFRESH-INTERVAL:P3D
CALSCALE:GREGORIAN
BEGIN:VEVENT
DTSTART:20260508T183000Z
DTEND:20260508T184500Z
X-MICROSOFT-CDO-ALLDAYEVENT:FALSE
SUMMARY:Ribbon Cutting - Lead X - Innovation By Design
DESCRIPTION:Lead X   Innovation By Design \n\nSonya Brown is a leadership speaker and executive consultant with 20+ years of empowering executives\, teams\, and organizations to transform identity\, mindset\, and psychology into high-impact behaviors and actionable strategy\; helping leaders embody their full potential and achieve lasting results.
X-ALT-DESC;FMTTYPE=text/html:<br />\n<strong><u><span style="font-family:arial\,sans-serif\;"><span style="font-size:14.0pt\;">Lead X &ndash\; Innovation By Design </span></span></u></strong><br />\n<span style="font-family:arial\,sans-serif\;"><span style="font-size:12.0pt\;">Sonya Brown is a leadership speaker and executive consultant with 20+ years of empowering executives\, teams\, and organizations to transform identity\, mindset\, and psychology into high-impact behaviors and actionable strategy\; helping leaders embody their full potential and achieve lasting results.</span></span><br />\n<br />\n&nbsp\;
LOCATION:The Woodlands Area Chamber of Commerce 9320 Lakeside Blvd.\, Suite 200 The Woodlands\, TX 77381
UID:e.2574.22195
SEQUENCE:3
DTSTAMP:20260424T225544Z
URL:https://business.woodlandschamber.org/events/details/ribbon-cutting-lead-x-innovation-by-design-22195
END:VEVENT

END:VCALENDAR
