BEGIN:VCALENDAR
VERSION:2.0
PRODID:-//ChamberMaster//Event Calendar 2.0//EN
METHOD:PUBLISH
X-PUBLISHED-TTL:P3D
REFRESH-INTERVAL:P3D
CALSCALE:GREGORIAN
BEGIN:VEVENT
DTSTART:20250206T160000Z
DTEND:20250206T163000Z
X-MICROSOFT-CDO-ALLDAYEVENT:FALSE
SUMMARY:Ribbon Cutting - Kick Jobs LLC
DESCRIPTION:Ribbon Cutting - Kick Jobs LLC\n\nWe love recruiting and understand that hiring top talent is critical to the success of companies and their employees. We offer a full range of recruiting services\, and our goal is to provide our clients with great employees who will contribute to their company's growth and make a real difference in streamlining their hiring processes.
X-ALT-DESC;FMTTYPE=text/html:<strong><u><span style="font-size:18px\;">Ribbon Cutting - Kick Jobs LLC</span></u></strong><br />\nWe love recruiting and understand that hiring top talent is critical to the success of companies and their employees. We offer a full range of recruiting services\, and our goal is to provide our clients with great employees who will contribute to their company&rsquo\;s growth and make a real difference in streamlining their hiring processes.
LOCATION:The Woodlands Area Chamber of Commerce 9320 Lakeside Blvd.\, Suite 200 The Woodlands\, TX 77384
UID:e.2574.18158
SEQUENCE:3
DTSTAMP:20260420T125831Z
URL:https://business.woodlandschamber.org/events/details/ribbon-cutting-kick-jobs-llc-18158
END:VEVENT

END:VCALENDAR
