BEGIN:VCALENDAR
VERSION:2.0
PRODID:-//ChamberMaster//Event Calendar 2.0//EN
METHOD:PUBLISH
X-PUBLISHED-TTL:P3D
REFRESH-INTERVAL:P3D
CALSCALE:GREGORIAN
BEGIN:VEVENT
DTSTART:20241213T193000Z
DTEND:20241213T194500Z
X-MICROSOFT-CDO-ALLDAYEVENT:FALSE
SUMMARY:Ribbon Cutting - Jetero Exterminators
DESCRIPTION:Ribbon Cutting - Jetero Exterminators\n\nWe have been servicing The Woodlands area for over 40 years and we take pride in our relationships with clients and our work. Contact us for mosquito system installation\, termites\, rats/mice & general pests.
X-ALT-DESC;FMTTYPE=text/html:<strong><u><span style="font-size:18px\;">Ribbon Cutting - Jetero Exterminators</span></u></strong><br />\nWe have been servicing The Woodlands area for over 40 years and we take pride in our relationships with clients and our work. Contact us for mosquito system installation\, termites\, rats/mice &amp\; general pests.
LOCATION:The Woodlands Area Chamber of Commerce 9320 Lakeside Blvd.\, Suite 200 The Woodlands\, TX 77381
UID:e.2574.18107
SEQUENCE:3
DTSTAMP:20260420T152203Z
URL:https://business.woodlandschamber.org/events/details/ribbon-cutting-jetero-exterminators-18107
END:VEVENT

END:VCALENDAR
