BEGIN:VCALENDAR
VERSION:2.0
PRODID:-//ChamberMaster//Event Calendar 2.0//EN
METHOD:PUBLISH
X-PUBLISHED-TTL:P3D
REFRESH-INTERVAL:P3D
CALSCALE:GREGORIAN
BEGIN:VEVENT
DTSTART:20260514T220000Z
DTEND:20260514T230000Z
X-MICROSOFT-CDO-ALLDAYEVENT:FALSE
SUMMARY:Ribbon Cutting - iCode
DESCRIPTION:Ribbon Cutting - iCode\n\nWhy choose iCode? We make STEM education fun! Our instructor-led\, hands-on STEM classes and camps utilize gamified learning techniques to keep students engaged and excited to learn. Our curriculum team also ensures that our lessons continuously evolve with technology\, ensuring your student receives a best-in-class education\, utilizing gaming computers\, 3D printers\, robotics\, and even drones!
X-ALT-DESC;FMTTYPE=text/html:<br />\n<br />\n<strong><u><span style="font-family:arial\,sans-serif\;"><span style="font-size:14.0pt\;">Ribbon Cutting - iCode</span></span></u></strong><br />\n<span style="font-family:arial\,sans-serif\;"><span style="font-size:12.0pt\;">Why choose iCode? We make STEM education fun! Our instructor-led\, hands-on STEM classes and camps utilize gamified learning techniques to keep students engaged and excited to learn. Our curriculum team also ensures that our lessons continuously evolve with technology\, ensuring your student receives a best-in-class education\, utilizing gaming computers\, 3D printers\, robotics\, and even drones! </span></span><br />\n&nbsp\;
LOCATION:iCode 4526 Research Forest\, Suite 125 The Woodlands\, TX 77381
UID:e.2574.22196
SEQUENCE:3
DTSTAMP:20260424T225417Z
URL:https://business.woodlandschamber.org/events/details/ribbon-cutting-icode-22196
END:VEVENT

END:VCALENDAR
