BEGIN:VCALENDAR
VERSION:2.0
PRODID:-//ChamberMaster//Event Calendar 2.0//EN
METHOD:PUBLISH
X-PUBLISHED-TTL:P3D
REFRESH-INTERVAL:P3D
CALSCALE:GREGORIAN
BEGIN:VEVENT
DTSTART:20250509T181500Z
DTEND:20250509T183000Z
X-MICROSOFT-CDO-ALLDAYEVENT:FALSE
SUMMARY:Ribbon Cutting - DRYmedic of Spring Texas
DESCRIPTION:Ribbon Cutting - DRYmedic\n\nIn the wake of unforeseen disasters\, homes\, and businesses often face overwhelming challenges. At DRYmedic Restoration Services of Spring\, we understand the emotional toll and disruption that water damage\, mold infestations\, fire outbreaks\, storm damage\, and other calamities can bring to residents across Harris County.
X-ALT-DESC;FMTTYPE=text/html:<strong><u><span style="font-size:18px\;">Ribbon Cutting - DRYmedic</span></u></strong><br />\nIn the wake of unforeseen disasters\, homes\, and businesses often face overwhelming challenges. At DRYmedic Restoration Services of Spring\, we understand the emotional toll and disruption that water damage\, mold infestations\, fire outbreaks\, storm damage\, and other calamities can bring to residents across Harris County.&nbsp\;
LOCATION:The Woodlands Chamber of Commerce 9320 Lakeside Blvd.\, Suite 200 The Woodlands\, TX 77381
UID:e.2574.18412
SEQUENCE:3
DTSTAMP:20260420T091727Z
URL:https://business.woodlandschamber.org/events/details/ribbon-cutting-drymedic-of-spring-texas-18412
END:VEVENT

END:VCALENDAR
