BEGIN:VCALENDAR
VERSION:2.0
PRODID:-//ChamberMaster//Event Calendar 2.0//EN
METHOD:PUBLISH
X-PUBLISHED-TTL:P3D
REFRESH-INTERVAL:P3D
CALSCALE:GREGORIAN
BEGIN:VEVENT
DTSTART:20250211T170000Z
DTEND:20250211T173000Z
X-MICROSOFT-CDO-ALLDAYEVENT:FALSE
SUMMARY:Ribbon Cutting - Dental Care of Woodloch
DESCRIPTION:Ribbon Cutting - Dental Care of Woodloch\n\nWith over 40 years of experience\, Drs. Wes Urich and Shafa Nathani are committed to providing exceptional\, personalized care at every visit. Whether you need routine dental hygiene\, fillings\, Invisalign\, smile makeovers\, or treatment for TMJ\, snoring\, or sleep apnea\, our highly trained team is passionate about the impact a healthy smile has on your overall well-being. We can't wait to meet you!
X-ALT-DESC;FMTTYPE=text/html:<strong><u><span style="font-size:18px\;">Ribbon Cutting - Dental Care of Woodloch</span></u></strong><br />\nWith over 40 years of experience\, Drs. Wes Urich and Shafa Nathani are committed to providing exceptional\, personalized care at every visit. Whether you need routine dental hygiene\, fillings\, Invisalign\, smile makeovers\, or treatment for TMJ\, snoring\, or sleep apnea\, our highly trained team is passionate about the impact a healthy smile has on your overall well-being. We can&#39\;t wait to meet you!
LOCATION:Dental Care of Woodloch 9442 Highway 242 Conroe\, TX 77385
UID:e.2574.18166
SEQUENCE:3
DTSTAMP:20260420T125849Z
URL:https://business.woodlandschamber.org/events/details/ribbon-cutting-dental-care-of-woodloch-18166
END:VEVENT

END:VCALENDAR
