BEGIN:VCALENDAR
VERSION:2.0
PRODID:-//ChamberMaster//Event Calendar 2.0//EN
METHOD:PUBLISH
X-PUBLISHED-TTL:P3D
REFRESH-INTERVAL:P3D
CALSCALE:GREGORIAN
BEGIN:VEVENT
DTSTART:20241018T160000Z
DTEND:20241018T163000Z
X-MICROSOFT-CDO-ALLDAYEVENT:FALSE
SUMMARY:Ribbon Cutting - Dave & Buster's
DESCRIPTION:Ribbon Cutting - Dave & Buster's \n\nThere's always something new at Dave & Buster's - Grand Relaunch Weekend\, experience the future of play!
X-ALT-DESC;FMTTYPE=text/html:<strong><u><span style="font-size:18px\;">Ribbon Cutting - Dave &amp\; Buster&#39\;s&nbsp\;</span></u></strong><br />\n<span style="color:black\;"><span style="font-family:franklin gothic book\,sans-serif\;"><span style="font-size:11.0pt\;">There&#39\;s always something new at Dave &amp\; Buster&#39\;s - Grand Relaunch Weekend\, experience the future of play!</span></span></span>
LOCATION:Dave & Buster's 8915 Metropark Drive Shenandoah\, TX 77385
UID:e.2574.17916
SEQUENCE:3
DTSTAMP:20260424T141935Z
URL:https://business.woodlandschamber.org/events/details/ribbon-cutting-dave-buster-s-17916
END:VEVENT

END:VCALENDAR
