BEGIN:VCALENDAR
VERSION:2.0
PRODID:-//ChamberMaster//Event Calendar 2.0//EN
METHOD:PUBLISH
X-PUBLISHED-TTL:P3D
REFRESH-INTERVAL:P3D
CALSCALE:GREGORIAN
BEGIN:VEVENT
DTSTART:20251114T194500Z
DTEND:20251114T200000Z
X-MICROSOFT-CDO-ALLDAYEVENT:FALSE
SUMMARY:Ribbon Cutting - CNiC Solutions LLC
DESCRIPTION:Ribbon Cutting - CNiC Solutions LLC\n\nCNiC Solutions is your ''one stop'' destination premier IT solution provider dedicated to delivering comprehensive and tailored services. With our exceptional capabilities\, we strive to offer holistic IT solutions that cater to the unique needs of our esteemed customers. As your virtual Chief Information Officer (CIO)\, we collaborate closely with you to achieve your strategic business objectives.
X-ALT-DESC;FMTTYPE=text/html:<strong><u><span style="font-size:18px\;">Ribbon Cutting - CNiC Solutions LLC</span></u></strong><br />\nCNiC Solutions is your &#39\;&#39\;one stop&#39\;&#39\; destination premier IT solution provider dedicated to delivering comprehensive and tailored services. With our exceptional capabilities\, we strive to offer holistic IT solutions that cater to the unique needs of our esteemed customers. As your virtual Chief Information Officer (CIO)\, we collaborate closely with you to achieve your strategic business objectives.&nbsp\;
LOCATION:The Woodlands Area Chamber of Commerce 9320 Lakeside Blvd.\, Suite 200 The Woodlands\, TX 77381
UID:e.2574.21305
SEQUENCE:3
DTSTAMP:20260425T024032Z
URL:https://business.woodlandschamber.org/events/details/ribbon-cutting-cnic-solutions-llc-21305
END:VEVENT

END:VCALENDAR
