BEGIN:VCALENDAR
VERSION:2.0
PRODID:-//ChamberMaster//Event Calendar 2.0//EN
METHOD:PUBLISH
X-PUBLISHED-TTL:P3D
REFRESH-INTERVAL:P3D
CALSCALE:GREGORIAN
BEGIN:VEVENT
DTSTART:20241028T170000Z
DTEND:20241028T173000Z
X-MICROSOFT-CDO-ALLDAYEVENT:FALSE
SUMMARY:Ribbon Cutting - Big Blue Marble Academy - Falconwing
DESCRIPTION:Ribbon Cutting - Big Blue Marble Academy - Falconwing\n\nBig Blue Marble Academy provides nurturing childcare and early education for infants through school-age in The Woodlands\, TX. Our play-based curriculum and focus on character development fosters a love of learning. Explore our infant care\, preschool\, and after school programs designed to prepare your child for success.
X-ALT-DESC;FMTTYPE=text/html:<strong><u><span style="font-size:18px\;">Ribbon Cutting - Big Blue Marble Academy - Falconwing</span></u></strong><br />\nBig Blue Marble Academy provides nurturing childcare and early education for infants through school-age in The Woodlands\, TX. Our play-based curriculum and focus on character development fosters a love of learning. Explore our infant care\, preschool\, and after school programs designed to prepare your child for success.
LOCATION:Big Blue Marble Academy - Falconwing 10601 Falconwing Drive The Woodlands\, TX 77381
UID:e.2574.17940
SEQUENCE:3
DTSTAMP:20260424T153146Z
URL:https://business.woodlandschamber.org/events/details/ribbon-cutting-big-blue-marble-academy-falconwing-17940
END:VEVENT

END:VCALENDAR
