BEGIN:VCALENDAR
VERSION:2.0
PRODID:-//ChamberMaster//Event Calendar 2.0//EN
METHOD:PUBLISH
X-PUBLISHED-TTL:P3D
REFRESH-INTERVAL:P3D
CALSCALE:GREGORIAN
BEGIN:VEVENT
DTSTART:20241028T160000Z
DTEND:20241028T163000Z
X-MICROSOFT-CDO-ALLDAYEVENT:FALSE
SUMMARY:Ribbon Cutting - Big Blue Marble Academy - Crane Brook
DESCRIPTION:Ribbon Cutting - Big Blue Marble Academy - Crane Brook\n\nBig Blue Marble Academy provides nurturing childcare and early education for infants through school-age in The Woodlands\, TX. Our play-based curriculum and focus on character development fosters a love of learning. Explore our infant care\, preschool\, and after school programs designed to prepare your child for success.
X-ALT-DESC;FMTTYPE=text/html:<strong><u><span style="font-size:18px\;">Ribbon Cutting - Big Blue Marble Academy - Crane Brook</span></u></strong><br />\nBig Blue Marble Academy provides nurturing childcare and early education for infants through school-age in The Woodlands\, TX. Our play-based curriculum and focus on character development fosters a love of learning. Explore our infant care\, preschool\, and after school programs designed to prepare your child for success.
LOCATION:Big Blue Marble Academy - Crane Brook 11900 Crane Brook Drive\, 422 The Woodlands\, TX 77382
UID:e.2574.17939
SEQUENCE:3
DTSTAMP:20260424T153211Z
URL:https://business.woodlandschamber.org/events/details/ribbon-cutting-big-blue-marble-academy-crane-brook-17939
END:VEVENT

END:VCALENDAR
