BEGIN:VCALENDAR
VERSION:2.0
PRODID:-//ChamberMaster//Event Calendar 2.0//EN
METHOD:PUBLISH
X-PUBLISHED-TTL:P3D
REFRESH-INTERVAL:P3D
CALSCALE:GREGORIAN
BEGIN:VEVENT
DTSTART:20250620T173000Z
DTEND:20250620T181500Z
X-MICROSOFT-CDO-ALLDAYEVENT:FALSE
SUMMARY:Ribbon Cutting - beem Light Sauna The Woodlands
DESCRIPTION:Ribbon Cutting - beem Light Sauna The Woodlands\n\nOur intuitive wellness assistant\, luumi\, will help curate your perfect experience during your first visit by creating a session plan for you to feel informed and educated. Your Light Therapy session time will vary by service. Enjoy a private 40-minute infrared sauna session\, a 15-minute red light therapy session\, or both! This time is for YOU.
X-ALT-DESC;FMTTYPE=text/html:<strong><u><span style="font-size:18px\;">Ribbon Cutting - beem Light Sauna The Woodlands</span></u></strong><br />\nOur intuitive wellness assistant\, luumi\, will help curate your perfect experience during your first visit by creating a session plan for you to feel informed and educated. Your Light Therapy session time will vary by service. Enjoy a private 40-minute infrared sauna session\, a 15-minute red light therapy session\, or both! This time is for YOU.&nbsp\;
LOCATION:beem Light Sauna The Woodlands 6700 Woodlands Parkway\, Suite 130 The Woodlands\, TX 77382
UID:e.2574.18761
SEQUENCE:3
DTSTAMP:20260420T065520Z
URL:https://business.woodlandschamber.org/events/details/ribbon-cutting-beem-light-sauna-the-woodlands-18761
END:VEVENT

END:VCALENDAR
