BEGIN:VCALENDAR
VERSION:2.0
PRODID:-//ChamberMaster//Event Calendar 2.0//EN
METHOD:PUBLISH
X-PUBLISHED-TTL:P3D
REFRESH-INTERVAL:P3D
CALSCALE:GREGORIAN
BEGIN:VEVENT
DTSTART:20250606T180000Z
DTEND:20250606T183000Z
X-MICROSOFT-CDO-ALLDAYEVENT:FALSE
SUMMARY:Ribbon Cutting - Avion Wealth
DESCRIPTION:Ribbon Cutting - Avion Wealth\n\nAvion Wealth is an independent\, fee-only financial planning and investment advisor firm located here in The Woodlands. Intelligent Investing with Integrity.
X-ALT-DESC;FMTTYPE=text/html:<strong><u><span style="font-size:18px\;">Ribbon Cutting - Avion Wealth</span></u></strong><br />\nAvion Wealth is an independent\, fee-only financial planning and investment advisor firm located here in The Woodlands. Intelligent Investing with Integrity.<br />\n&nbsp\;
LOCATION:Avion Wealth 2829 Technology Forest Blvd.\, Suite 300 The Woodlands\, TX 77381
UID:e.2574.18773
SEQUENCE:3
DTSTAMP:20260420T065417Z
URL:https://business.woodlandschamber.org/events/details/ribbon-cutting-avion-wealth-18773
END:VEVENT

END:VCALENDAR
