BEGIN:VCALENDAR
VERSION:2.0
PRODID:-//ChamberMaster//Event Calendar 2.0//EN
METHOD:PUBLISH
X-PUBLISHED-TTL:P3D
REFRESH-INTERVAL:P3D
CALSCALE:GREGORIAN
BEGIN:VEVENT
DTSTART:20260515T150000Z
DTEND:20260515T154500Z
X-MICROSOFT-CDO-ALLDAYEVENT:FALSE
SUMMARY:Ribbon Cutting - Apricot Lane Boutique - The Woodlands
DESCRIPTION:Ribbon Cutting Apricot Lane Boutique   The Woodlands\n\nWe are a unique boutique!  Apricot Lane offers affordable & great designer apparel\, jewelry\, accessories and gifts.  We put the FUN in fashion\, providing styling services and personal fashion parties.  Making YOU happy makes US happy!!!
X-ALT-DESC;FMTTYPE=text/html:<br />\n<br />\n<strong><u><span style="font-family:arial\,sans-serif\;"><span style="font-size:14.0pt\;">Ribbon Cutting Apricot Lane Boutique &ndash\; The Woodlands</span></span></u></strong><br />\n<span style="font-family:arial\,sans-serif\;"><span style="font-size:12.0pt\;">We are a unique boutique!&nbsp\; Apricot Lane offers affordable &amp\; great designer apparel\, jewelry\, accessories and gifts.&nbsp\; We put the FUN in fashion\, providing styling services and personal fashion parties.&nbsp\; Making YOU happy makes US happy!!!</span></span><br />\n&nbsp\;<br />\n&nbsp\;
LOCATION:Apricot Lane Boutique - The Woodlands 10720 Kuykendahl Rd.\, Suite C1 The Woodlands\, TX 77381
UID:e.2574.22189
SEQUENCE:3
DTSTAMP:20260423T024415Z
URL:https://business.woodlandschamber.org/events/details/ribbon-cutting-apricot-lane-boutique-the-woodlands-22189
END:VEVENT

END:VCALENDAR
