BEGIN:VCALENDAR
VERSION:2.0
PRODID:-//ChamberMaster//Event Calendar 2.0//EN
METHOD:PUBLISH
X-PUBLISHED-TTL:P3D
REFRESH-INTERVAL:P3D
CALSCALE:GREGORIAN
BEGIN:VEVENT
DTSTART:20241004T170000Z
DTEND:20241004T173000Z
X-MICROSOFT-CDO-ALLDAYEVENT:FALSE
SUMMARY:Ribbon Cutting - Activate Houston (The Woodlands)
DESCRIPTION:Ribbon Cutting - Activate Houston (The Woodlands)\n\nEnter the game where you become the player in the world's first active gaming facility. Jump\, climb\, problem-solve and laugh\, as you and your friends move between challenges. Each dynamic game room has interactive technology that reacts in real time\, ensuring an adrenaline-filled adventure. Gather your group of 2-5 and give it your all. More than 5? Split up and switch teams.
X-ALT-DESC;FMTTYPE=text/html:<strong><u><span style="font-size:18px\;">Ribbon Cutting - Activate Houston (The Woodlands)</span></u></strong><br />\nEnter the game where you become the player in the world&rsquo\;s first active gaming facility. Jump\, climb\, problem-solve and laugh\, as you and your friends move between challenges. Each dynamic game room has interactive technology that reacts in real time\, ensuring an adrenaline-filled adventure. Gather your group of 2-5 and give it your all. More than 5? Split up and switch teams.
LOCATION:Activate Houston (The Woodlands) 536 Sawdust Road\, Suite C Spring\, TX 77380
UID:e.2574.17863
SEQUENCE:3
DTSTAMP:20260424T153334Z
URL:https://business.woodlandschamber.org/events/details/ribbon-cutting-activate-houston-the-woodlands-17863
END:VEVENT

END:VCALENDAR
