BEGIN:VCALENDAR
VERSION:2.0
PRODID:-//ChamberMaster//Event Calendar 2.0//EN
METHOD:PUBLISH
X-PUBLISHED-TTL:P3D
REFRESH-INTERVAL:P3D
CALSCALE:GREGORIAN
BEGIN:VEVENT
DTSTART:20241011T181500Z
DTEND:20241011T184500Z
X-MICROSOFT-CDO-ALLDAYEVENT:FALSE
SUMMARY:**RESCHEDULED**Ribbon Cutting - WoodmenLife Texas-SE
DESCRIPTION:Ribbon Cutting - WoodmenLife Texas-SE\n\nAs a not-for-profit life insurance company\, we've been helping to protect the financial future of families like yours\, making a difference in hometowns across America and honoring our country since 1890.
X-ALT-DESC;FMTTYPE=text/html:<strong><u><span style="font-size:18px\;">Ribbon Cutting - WoodmenLife Texas-SE</span></u></strong><br />\nAs a not-for-profit life insurance company\, we&rsquo\;ve been helping to protect the financial future of families like yours\, making a difference in hometowns across America and honoring our country since 1890.
LOCATION:The Woodlands Chamber of Commerce 9320 Lakeside Blvd.\, Suite 200 The Woodlands\, TX 77381
UID:e.2574.17876
SEQUENCE:3
DTSTAMP:20260424T141247Z
URL:https://business.woodlandschamber.org/events/details/rescheduled-ribbon-cutting-woodmenlife-texas-se-17876
END:VEVENT

END:VCALENDAR
