BEGIN:VCALENDAR
VERSION:2.0
PRODID:-//ChamberMaster//Event Calendar 2.0//EN
METHOD:PUBLISH
X-PUBLISHED-TTL:P3D
REFRESH-INTERVAL:P3D
CALSCALE:GREGORIAN
BEGIN:VEVENT
DTSTART:20250411T184500Z
DTEND:20250411T190000Z
X-MICROSOFT-CDO-ALLDAYEVENT:FALSE
SUMMARY:**RESCHEDULED** Ribbon Cutting - Hollister Home Services
DESCRIPTION:Ribbon Cutting - Hollister Home Services\n\nWe are family owned and operated\, serving The Woodlands and surrounding areas since 2006. As our motto states\, "WE WILL ALWAYS DO RIGHT BY YOU!" This stands for everything that we are.\n\n\n\nWe specialize in complete HVAC and POOL services both residential and commercial\, as well as most handman work. We are knowledgeable\, reliable\, honest and our customer service is unsurpassed.
X-ALT-DESC;FMTTYPE=text/html:<strong><u><span style="font-size:18px\;">Ribbon Cutting - Hollister Home Services</span></u></strong><br />\nWe are family owned and operated\, serving The Woodlands and surrounding areas since 2006. As our motto states\, &ldquo\;WE WILL ALWAYS DO RIGHT BY YOU!&rdquo\; This stands for everything that we are.<br />\n<br />\nWe specialize in complete HVAC and POOL services both residential and commercial\, as well as most handman work. We are knowledgeable\, reliable\, honest and our customer service is unsurpassed.
LOCATION:The Woodlands Area Chamber of Commerce 9320 Lakeside Blvd.\, Suite 200 The Woodlands\, TX 77381
UID:e.2574.18221
SEQUENCE:3
DTSTAMP:20260420T102704Z
URL:https://business.woodlandschamber.org/events/details/rescheduled-ribbon-cutting-hollister-home-services-18221
END:VEVENT

END:VCALENDAR
