BEGIN:VCALENDAR
VERSION:2.0
PRODID:-//ChamberMaster//Event Calendar 2.0//EN
METHOD:PUBLISH
X-PUBLISHED-TTL:P3D
REFRESH-INTERVAL:P3D
CALSCALE:GREGORIAN
BEGIN:VEVENT
DTSTART:20240913T181500Z
DTEND:20240913T183000Z
X-MICROSOFT-CDO-ALLDAYEVENT:FALSE
SUMMARY:** Rescheduled** Ribbon Cutting - Daniels Plumbing Co.\, Inc.
DESCRIPTION:Ribbon Cutting - Daniels Plumbing Co.\, Inc.\n\nWe are a family owned business founded by Mike and Valerie Daniels serving the Woodlands and surrounding areas for more than 38 years. Every Daniels Plumbing employee knows that his or her first priority is to provide exceptional customer service. You can count on polite\, courteous\, professional people delivering guaranteed estimates and reliable plumbing repairs and installations.
X-ALT-DESC;FMTTYPE=text/html:<strong><u><span style="font-size:18px\;">Ribbon Cutting - Daniels Plumbing Co.\, Inc.</span></u></strong><br />\nWe are a family owned business founded by Mike and Valerie Daniels serving the Woodlands and surrounding areas for more than 38 years. Every Daniels Plumbing employee knows that his or her first priority is to provide exceptional customer service. You can count on polite\, courteous\, professional people delivering guaranteed estimates and reliable plumbing repairs and installations.&nbsp\;
LOCATION:The Woodlands Area Chamber of Commerce 9320 Lakeside Blvd.\, Suite 200 The Woodlands\, TX 77381
UID:e.2574.17700
SEQUENCE:3
DTSTAMP:20260425T031844Z
URL:https://business.woodlandschamber.org/events/details/rescheduled-ribbon-cutting-daniels-plumbing-co-inc-09-13-2024-17700
END:VEVENT

END:VCALENDAR
