BEGIN:VCALENDAR
VERSION:2.0
PRODID:-//ChamberMaster//Event Calendar 2.0//EN
METHOD:PUBLISH
X-PUBLISHED-TTL:P3D
REFRESH-INTERVAL:P3D
CALSCALE:GREGORIAN
BEGIN:VEVENT
DTSTART:20250613T184500Z
DTEND:20250613T190000Z
X-MICROSOFT-CDO-ALLDAYEVENT:FALSE
SUMMARY:**POSTPONED**Ribbon Cutting - Leto Consultants LLC
DESCRIPTION:Ribbon Cutting - Leto Consultants LLC\n\nAt Higher Ed Workforce Leto\, we believe that every student has the potential to succeed. We strive to create an inclusive and supportive learning environment that empowers students to reach their full potential and achieve their goals.
X-ALT-DESC;FMTTYPE=text/html:<strong><u><span style="font-size:18px\;">Ribbon Cutting - Leto Consultants LLC</span></u></strong><br />\n<span background-color:="" font-size:="" sans="" source="" style="color: rgb(145\, 145\, 145)\; font-family: ">At Higher Ed Workforce Leto\, we believe that every student has the potential to succeed. We strive to create an inclusive and supportive learning environment that empowers students to reach their full potential and achieve their goals.</span>
LOCATION:The Woodlands Chamber of Commerce 9320 Lakeside Blvd.\, Suite 200 The Woodlands\, TX 77381
UID:e.2574.18806
SEQUENCE:3
DTSTAMP:20260420T065758Z
URL:https://business.woodlandschamber.org/events/details/postponed-ribbon-cutting-leto-consultants-llc-18806
END:VEVENT

END:VCALENDAR
