BEGIN:VCALENDAR
VERSION:2.0
PRODID:-//ChamberMaster//Event Calendar 2.0//EN
METHOD:PUBLISH
X-PUBLISHED-TTL:P3D
REFRESH-INTERVAL:P3D
CALSCALE:GREGORIAN
BEGIN:VEVENT
DTSTART:20250215T160000Z
DTEND:20250215T230000Z
X-MICROSOFT-CDO-ALLDAYEVENT:FALSE
SUMMARY:Open house event\, Now enrolling.
DESCRIPTION:Open house event going on this Saturday and Sunday (02/15 and 02/16) every is welcome. Free assessment test for Students aging 3 to 14. Bring your children and get promotional offers.
X-ALT-DESC;FMTTYPE=text/html:Open house event going on this Saturday and Sunday (02/15 and 02/16) every is welcome. Free assessment test for Students aging 3 to 14. Bring your children and get promotional offers.&nbsp\;&nbsp\;
LOCATION:6707 Sterling Ridge Dr\, Ste C\, The Woodlands\, TX 77382
UID:e.2574.18434
SEQUENCE:3
DTSTAMP:20260420T125526Z
URL:https://business.woodlandschamber.org/events/details/open-house-event-now-enrolling-18434
END:VEVENT

END:VCALENDAR
