BEGIN:VCALENDAR
VERSION:2.0
PRODID:-//ChamberMaster//Event Calendar 2.0//EN
METHOD:PUBLISH
X-PUBLISHED-TTL:P3D
REFRESH-INTERVAL:P3D
CALSCALE:GREGORIAN
BEGIN:VEVENT
DTSTART:20260421T220000Z
DTEND:20260422T000000Z
X-MICROSOFT-CDO-ALLDAYEVENT:FALSE
SUMMARY:Meet the New Members
DESCRIPTION:Meet the New Members\n\nSponsored by VERVE WORKSPACE\n\n\n\nJoin us for a complimentary\, monthly meet and greet reception where we will introduce up to 10 new members to the general membership. \n\n\n\nNew members will provide a one-time only introductory commercial on the microphone (not to exceed 90 seconds).  The event provides opportunities for members to meet other members and learn how we can all do business  together.  \n\n\n\nMeet the New Members rotates to different chamber member business locations monthly. \n\n\n\nHosting opportunities are open twice a year. \n\n\n\nNew Members wishing to give their introductory commercials should contact Cyndi Alvarado\, Vice President of Membership at cyndi.alvarado@woodlandschamber.org for more information on how to get added to the list.
X-ALT-DESC;FMTTYPE=text/html:<br />\n<br />\n<span style="font-size: 18px\;"><span style="font-family: arial\;"><strong>Meet the New Members</strong></span></span><br />\nSponsored by <a href="https://www.vervework.com/"><strong>VERVE WORKSPACE</strong></a><br />\n<br />\n<span style="color: rgb(68\, 68\, 68)\; font-family: Arial\, Helvetica\, sans-serif\; font-size: 16px\;">Join us for a complimentary\, monthly meet and greet reception where we will introduce up to 10 new members to the general membership.&nbsp\;</span><br style="box-sizing: border-box\; color: rgb(68\, 68\, 68)\; font-family: Arial\, Helvetica\, sans-serif\; font-size: 16px\;" />\n<br style="box-sizing: border-box\; color: rgb(68\, 68\, 68)\; font-family: Arial\, Helvetica\, sans-serif\; font-size: 16px\;" />\n<span style="color: rgb(68\, 68\, 68)\; font-family: Arial\, Helvetica\, sans-serif\; font-size: 16px\;">New members will provide a one-time only introductory commercial on the microphone (not to exceed 90 seconds).&nbsp\; The event provides opportunities for members to meet other members and learn how we can all do business&nbsp\; together.&nbsp\;&nbsp\;</span><br style="box-sizing: border-box\; color: rgb(68\, 68\, 68)\; font-family: Arial\, Helvetica\, sans-serif\; font-size: 16px\;" />\n<br style="box-sizing: border-box\; color: rgb(68\, 68\, 68)\; font-family: Arial\, Helvetica\, sans-serif\; font-size: 16px\;" />\n<span style="color: rgb(68\, 68\, 68)\; font-family: Arial\, Helvetica\, sans-serif\; font-size: 16px\;">Meet the New Members rotates to different chamber member business locations monthly.&nbsp\;</span><br style="box-sizing: border-box\; color: rgb(68\, 68\, 68)\; font-family: Arial\, Helvetica\, sans-serif\; font-size: 16px\;" />\n<br style="box-sizing: border-box\; color: rgb(68\, 68\, 68)\; font-family: Arial\, Helvetica\, sans-serif\; font-size: 16px\;" />\n<span style="color: rgb(68\, 68\, 68)\; font-family: Arial\, Helvetica\, sans-serif\; font-size: 16px\;">Hosting opportunities are open twice a year.&nbsp\;<br />\n<br />\nNew Members wishing to give their introductory commercials should contact Cyndi Alvarado\, Vice President of Membership at cyndi.alvarado@woodlandschamber.org for more information on how to get added to the list.</span><br />\n<br />\n&nbsp\;
LOCATION:Verve Workspace 8708 Technology Forest Pl.\, Suite 175 The Woodlands\, TX 77381
UID:e.2574.17296
SEQUENCE:3
DTSTAMP:20260419T155042Z
URL:https://business.woodlandschamber.org/events/details/meet-the-new-members-04-28-2026-17296
END:VEVENT

END:VCALENDAR
