BEGIN:VCALENDAR
VERSION:2.0
PRODID:-//ChamberMaster//Event Calendar 2.0//EN
METHOD:PUBLISH
X-PUBLISHED-TTL:P3D
REFRESH-INTERVAL:P3D
CALSCALE:GREGORIAN
BEGIN:VEVENT
DTSTART:20240920T223000Z
DTEND:20240921T010000Z
X-MICROSOFT-CDO-ALLDAYEVENT:FALSE
SUMMARY:Kid's Night Out
DESCRIPTION:
X-ALT-DESC;FMTTYPE=text/html:
LOCATION:
UID:e.2574.3028
SEQUENCE:3
DTSTAMP:20260420T040151Z
URL:https://business.woodlandschamber.org/events/details/kid-s-night-out-09-20-2024-3028
END:VEVENT

END:VCALENDAR
