BEGIN:VCALENDAR
VERSION:2.0
PRODID:-//ChamberMaster//Event Calendar 2.0//EN
METHOD:PUBLISH
X-PUBLISHED-TTL:P3D
REFRESH-INTERVAL:P3D
CALSCALE:GREGORIAN
BEGIN:VEVENT
DTSTART:20250728T200000Z
DTEND:20250728T210000Z
X-MICROSOFT-CDO-ALLDAYEVENT:FALSE
SUMMARY:EOC 2026 Committee Meeting
DESCRIPTION:Kick-Off Committee Meeting
X-ALT-DESC;FMTTYPE=text/html:<br />\n<br />\n<br />\n<span style="font-size:16px\;"><strong><span style="font-size:18px\;">Kick-Off Committee Meeting</span></strong></span>
LOCATION:The Woodlands Area Chamber of Commerce 9320 Lakeside Boulevard\, 2nd Floor Lakeshore Conference Room
UID:e.2574.19260
SEQUENCE:3
DTSTAMP:20260420T065417Z
URL:https://business.woodlandschamber.org/events/details/eoc-2026-committee-meeting-19260
END:VEVENT

END:VCALENDAR
