BEGIN:VCALENDAR
VERSION:2.0
PRODID:-//ChamberMaster//Event Calendar 2.0//EN
METHOD:PUBLISH
X-PUBLISHED-TTL:P3D
REFRESH-INTERVAL:P3D
CALSCALE:GREGORIAN
BEGIN:VEVENT
DTSTART:20250616T200000Z
DTEND:20250616T210000Z
X-MICROSOFT-CDO-ALLDAYEVENT:FALSE
SUMMARY:Chairman's Ball Team Meeting
DESCRIPTION:The Chairman's Ball committee is responsible for securing sponsorships\, tabletop decorators and ticket sales. The committee also helps in the planning and day of event logistics including decor\, timeline\, and marketing materials.
X-ALT-DESC;FMTTYPE=text/html:The Chairman&#39\;s Ball committee is responsible for securing sponsorships\, tabletop decorators and ticket sales. The committee also helps in the planning and day of event logistics including decor\, timeline\, and marketing materials.
LOCATION:The Woodlands Area Chamber of Commerce- Lakeshore Boardroom 9320 Lakeside Blvd The Woodlands\, TX 77380
UID:e.2574.18404
SEQUENCE:3
DTSTAMP:20260420T065926Z
URL:https://business.woodlandschamber.org/events/details/chairman-s-ball-team-meeting-06-16-2025-18404
END:VEVENT

END:VCALENDAR
