BEGIN:VCALENDAR
VERSION:2.0
PRODID:-//ChamberMaster//Event Calendar 2.0//EN
METHOD:PUBLISH
X-PUBLISHED-TTL:P3D
REFRESH-INTERVAL:P3D
CALSCALE:GREGORIAN
BEGIN:VEVENT
DTSTART:20250804T200000Z
DTEND:20250804T210000Z
X-MICROSOFT-CDO-ALLDAYEVENT:FALSE
SUMMARY:Chairman's Ball Tabletop Decorator Meeting - MANDATORY
DESCRIPTION:
X-ALT-DESC;FMTTYPE=text/html:
LOCATION:Chamber Offices
UID:e.2574.19397
SEQUENCE:3
DTSTAMP:20260420T054845Z
URL:https://business.woodlandschamber.org/events/details/chairman-s-ball-tabletop-decorator-meeting-mandatory-19397
END:VEVENT

END:VCALENDAR
