BEGIN:VCALENDAR
VERSION:2.0
PRODID:-//ChamberMaster//Event Calendar 2.0//EN
METHOD:PUBLISH
X-PUBLISHED-TTL:P3D
REFRESH-INTERVAL:P3D
CALSCALE:GREGORIAN
BEGIN:VEVENT
DTSTART:20250805T220000Z
DTEND:20250806T000000Z
X-MICROSOFT-CDO-ALLDAYEVENT:FALSE
SUMMARY:Business After Hours
DESCRIPTION:BUSINESS AFTER HOURS - SPONSORED BY BRAIN BALANCE OF THE WOODLANDS & KATY\n\n\n\nBusiness After Hours is a complimentary social providing you with opportunities to meet\, mingle & build relationships with other area business professionals.\n\n\n\nBusiness After Hours rotates to different Chamber Member business locations monthly. \n\n\n\nHosting opportunities are open twice a year. For more information contact Cyndi Alvarado\, VP of Membership at cyndi.alvarado@woodlandschamber.org
X-ALT-DESC;FMTTYPE=text/html:<br />\n<br />\n<span style="font-size:16px\;"><span style="line-height: 20.8px\; font-family: Arial\, Helvetica\, sans-serif\;"><strong>BUSINESS AFTER HOURS - SPONSORED BY BRAIN BALANCE OF THE WOODLANDS &amp\; KATY</strong><br />\n<br />\nBusiness After Hours is a complimentary social providing you with opportunities to meet\, mingle &amp\; build relationships with other area business professionals.<br />\n<br />\nBusiness After Hours rotates to different Chamber Member business locations monthly.&nbsp\;</span><br style="font-size: 14px\;" />\n<br style="font-size: 14px\;" />\nHosting opportunities are open twice a year. For more information contact Cyndi Alvarado\, VP of Membership at&nbsp\;<a href="mailto:cyndi.alvarado@woodlandschamber.org" style="font-size: 14px\;"><font color="#0066cc">cyndi.alvarado@woodlandschamber.org</font></a></span>
LOCATION:Brain Balance of The Woodlands & Katy 121 Vision Park Blvd.\, Suite 120 Shenandoah\, TX 77384
UID:e.2574.16246
SEQUENCE:3
DTSTAMP:20260420T054727Z
URL:https://business.woodlandschamber.org/events/details/business-after-hours-08-05-2025-16246
END:VEVENT

END:VCALENDAR
