BEGIN:VCALENDAR
VERSION:2.0
PRODID:-//ChamberMaster//Event Calendar 2.0//EN
METHOD:PUBLISH
X-PUBLISHED-TTL:P3D
REFRESH-INTERVAL:P3D
CALSCALE:GREGORIAN
BEGIN:VEVENT
DTSTART:20261021T123000Z
DTEND:20261021T140000Z
X-MICROSOFT-CDO-ALLDAYEVENT:FALSE
SUMMARY:Breakfast Connections
DESCRIPTION:Breakfast Connections is open to all Chamber members and guests.  Members in attendance will be given the opportunity to give a 60 second commercial on the microphone. Guests will be allowed to give their name\, title and company name (no commercial time).\n\n\n\nMembers should plan to arrive early.  The event will start promptly at 7:01 a.m. For added publicity\, members are encouraged to bring a door prize.\n\n\n\nAdvanced online paid registration is required.  Reservations made after January 16\, 2026 will be $5 more.  Register today!\n\n\n\nMONTHLY THEME:  \n\n\n\nSPOTLIGHT SPONSOR:   SPINAL CARE CHIROPRACTIC CENTER\n\n\n\nREGISTRATION REQUIRED FOR ALL MEMBERS & GUESTS IN ATTENDANCE.\n\n\n\nFor more information on how your company can be showcased as the monthly spotlight sponsor\, please contact Cyndi Alvarado - cyndi.alvarado@woodlandschamber.org.  Sponsorship is $350. \n\n\n\nNO REFUNDS FOR NO SHOWS OR CANCELATIONS AFTER 12PM  - FRIDAY\, OCTOBER 16\, 2026
X-ALT-DESC;FMTTYPE=text/html:<br />\n<br />\n<span style="font-size:18px\;"><span style="font-family:arial\;">Breakfast Connections&nbsp\;is open to all Chamber members and guests.&nbsp\; Members in attendance will be given the opportunity to give a 60 second commercial on the microphone.&nbsp\;Guests will be allowed to give their name\, title and company name (no commercial time).<br />\n<br />\nMembers should plan to arrive early.&nbsp\; The event will start promptly at 7:01 a.m. For added publicity\, members are encouraged to bring a door prize.<br />\n<br />\n<span style="color: rgb(255\, 0\, 0)\;"><strong>Advanced online paid registration is required.&nbsp\; Reservations made after January 16\, 2026 will be $5 more.&nbsp\; Register today!</strong></span><br />\n<br />\n<em><strong>MONTHLY THEME:</strong>&nbsp\;&nbsp\;</em></span></span><br />\n<br />\n<span style="font-size:14px\;"><span style="font-family:arial\;"><span style="font-size:18px\;"><strong>SPOTLIGHT SPONSOR:&nbsp\; &nbsp\;<a href="http://www.spinalcarechiropractic.com">SPINAL CARE CHIROPRACTIC CENTER</a></strong></span></span></span><br />\n<br />\n<span style="font-size: 16px\;"><span style="font-family: arial\;"><strong>REGISTRATION REQUIRED FOR ALL MEMBERS &amp\; GUESTS IN ATTENDANCE.</strong></span></span><br />\n<br />\n<span style="font-size:14px\;"><span style="font-family:arial\;">For more information on how your company can be showcased as the monthly spotlight sponsor\, please contact Cyndi Alvarado - cyndi.alvarado@woodlandschamber.org.&nbsp\; Sponsorship is $350.&nbsp\;</span></span><br />\n<br />\n<strong><span style="color:#FF0000\;">NO REFUNDS FOR NO SHOWS OR CANCELATIONS AFTER 12PM&nbsp\; - FRIDAY\, OCTOBER 16\, 2026</span></strong>
LOCATION:Mia's Table 18450 Interstate 45 South Shenandoah\, TX 77384
UID:e.2574.18834
SEQUENCE:3
DTSTAMP:20260420T054738Z
URL:https://business.woodlandschamber.org/events/details/breakfast-connections-december-2025-10-21-2026-18834
END:VEVENT

END:VCALENDAR
