BEGIN:VCALENDAR
VERSION:2.0
PRODID:-//ChamberMaster//Event Calendar 2.0//EN
METHOD:PUBLISH
X-PUBLISHED-TTL:P3D
REFRESH-INTERVAL:P3D
CALSCALE:GREGORIAN
BEGIN:VEVENT
DTSTART:20240821T120000Z
DTEND:20240821T140000Z
X-MICROSOFT-CDO-ALLDAYEVENT:FALSE
SUMMARY:Breakfast Connections
DESCRIPTION:Breakfast Connections is open to all Chamber members and guests.  Members in attendance will be given the opportunity to give a 60 second commercial on the microphone. Guests will be allowed to give their name\, title and company name (no commercial time).\n\n\n\nMembers should plan to arrive early.  The event will start promptly at 7:01 a.m. For added publicity\, members are encouraged to bring a door prize.\n\n\n\nAdvanced online paid registration is required.  Register today!\n\n\n\nMONTHLY THEME:  What is your favorite Back to School memory or event? \n\n\n\nSPOTLIGHT SPONSOR:   SENIOR CARE AUTHORITY OF SOUTHEAST TEXAS\n\n\n\nFor more information on how your company can be showcased as the monthly spotlight sponsor\, please contact Cyndi Alvarado - cyndi.alvarado@woodlandschamber.org.  Sponsorship is $350. \n\n\n\nNO REFUNDS FOR NO SHOWS OR CANCELATIONS AFTER 12PM  - FRIDAY\, AUGUST 16\, 2024.
X-ALT-DESC;FMTTYPE=text/html:<br />\n<br />\n<span style="font-size:14px\;"><span style="font-family:arial\;"><span style="font-size:20px\;">Breakfast Connections&nbsp\;is open to all Chamber members and guests.&nbsp\; Members in attendance will be given the opportunity to give a 60 second commercial on the microphone.&nbsp\;Guests will be allowed to give their name\, title and company name (no commercial time).<br />\n<br />\nMembers should plan to arrive early.&nbsp\; The event will start promptly at 7:01 a.m. For added publicity\, members are encouraged to bring a door prize.<br />\n<br />\n<span style="color: rgb(255\, 0\, 0)\;"><strong>Advanced online paid registration is required.&nbsp\; Register today!</strong></span></span><br />\n<br />\n<span style="font-size:20px\;"><em><strong>MONTHLY THEME:</strong>&nbsp\; What is your favorite Back to School memory or event?&nbsp\;</em><br />\n<br />\n<strong>SPOTLIGHT SPONSOR:&nbsp\; &nbsp\;<a href="https://business.woodlandschamber.org/list/member/senior-care-authority-of-southeast-texas-70036">SENIOR CARE AUTHORITY OF SOUTHEAST TEXAS</a></strong></span><br />\n<br />\nFor more information on how your company can be showcased as the monthly spotlight sponsor\, please contact Cyndi Alvarado - cyndi.alvarado@woodlandschamber.org.&nbsp\; Sponsorship is $350.&nbsp\;</span></span><br />\n<br />\n<strong><span style="color:#FF0000\;">NO REFUNDS FOR NO SHOWS OR CANCELATIONS AFTER 12PM&nbsp\; - FRIDAY\, AUGUST 16\, 2024.</span></strong>
LOCATION:Crowne Plaza Shenandoah / Woodlands Area 19333 David Memorial Dr. Shenandoah\, TX 77385
UID:e.2574.16222
SEQUENCE:3
DTSTAMP:20260426T000752Z
URL:https://business.woodlandschamber.org/events/details/breakfast-connections-08-21-2024-16222
END:VEVENT

END:VCALENDAR
